BEGIN:VCALENDAR
VERSION:2.0
PRODID:-//ChamberMaster//Event Calendar 2.0//EN
METHOD:PUBLISH
X-PUBLISHED-TTL:P1H
REFRESH-INTERVAL:P1H
CALSCALE:GREGORIAN
BEGIN:VTIMEZONE
TZID:America/New_York
BEGIN:DAYLIGHT
RRULE:FREQ=YEARLY;BYMONTH=3;BYDAY=2SU
DTSTART:20070101T000000
TZOFFSETFROM:-0500
TZOFFSETTO:-0400
TZNAME:Eastern Daylight Time
END:DAYLIGHT
BEGIN:STANDARD
RRULE:FREQ=YEARLY;BYMONTH=11;BYDAY=1SU
DTSTART:20070101T000000
TZOFFSETFROM:-0400
TZOFFSETTO:-0500
TZNAME:Eastern Standard Time
END:STANDARD
END:VTIMEZONE
BEGIN:VEVENT
DTSTART;TZID=America/New_York:20260401T100000
DTEND;TZID=America/New_York:20260401T120000
X-MICROSOFT-CDO-ALLDAYEVENT:FALSE
SUMMARY:AI & Algorithmic Discrimination Webinar
DESCRIPTION:** Postponed ** New Jersey Realtors is hosting a webinar with the New Jersey Division on Civil Rights. This session is a 2 -hour training focusing on emerging technologies\, including artificial intelligence (AI) and outlines how the NJ Law Against Discrimination provides protections in employment\, housing\, and places of public accommodation when the use of AI leads to unfair outcomes\, as well as strategies that individuals and companies can deploy to ensure that automated systems are fair\, equitable\, and minimize bias and discrimination.
X-ALT-DESC;FMTTYPE=text/html:<!DOCTYPE html><html><head><title></title></head><body aria-disabled="false"><p>** Postponed ** New Jersey Realtors is hosting a webinar with the New Jersey Division on Civil Rights. This session is a 2 -hour training focusing on emerging technologies\, including artificial intelligence (AI) and outlines how the NJ Law Against Discrimination provides protections in employment\, housing\, and places of public accommodation when the use of AI leads to unfair outcomes\, as well as strategies that individuals and companies can deploy to ensure that automated systems are fair\, equitable\, and minimize bias and discrimination.</p></body></html>
LOCATION:
UID:e.2125.1408685
SEQUENCE:3
DTSTAMP:20260424T011241Z
URL:https://members.scarnj.com/eventcalendar/Details/ai-algorithmic-discrimination-webinar-1664770?sourceTypeId=Hub
END:VEVENT
END:VCALENDAR
