BEGIN:VCALENDAR
VERSION:2.0
PRODID:-//ChamberMaster//Event Calendar 2.0//EN
METHOD:PUBLISH
X-PUBLISHED-TTL:P1H
REFRESH-INTERVAL:P1H
CALSCALE:GREGORIAN
BEGIN:VTIMEZONE
TZID:America/New_York
BEGIN:DAYLIGHT
RRULE:FREQ=YEARLY;BYMONTH=3;BYDAY=2SU
DTSTART:20070101T000000
TZOFFSETFROM:-0500
TZOFFSETTO:-0400
TZNAME:Eastern Daylight Time
END:DAYLIGHT
BEGIN:STANDARD
RRULE:FREQ=YEARLY;BYMONTH=11;BYDAY=1SU
DTSTART:20070101T000000
TZOFFSETFROM:-0400
TZOFFSETTO:-0500
TZNAME:Eastern Standard Time
END:STANDARD
END:VTIMEZONE
BEGIN:VEVENT
DTSTART;TZID=America/New_York:20260703T090000
DTEND;TZID=America/New_York:20260703T103000
X-MICROSOFT-CDO-ALLDAYEVENT:FALSE
SUMMARY:Broker Leadership Council
DESCRIPTION:Meeting of the Brokers and Managers of the member offices. Purpose of this meeting is to coordinate and foster communication\, catalyze greater engagement of the services and resources offered by SCAR\, discuss common issues\, and brief on the Association activities.
X-ALT-DESC;FMTTYPE=text/html:Meeting of the Brokers and Managers of the member offices. Purpose of this meeting is to coordinate and foster communication\, catalyze greater engagement of the services and resources offered by SCAR\, discuss common issues\, and brief on the Association activities.
LOCATION:351 Sparta Avenue Ste 101A Sparta NJ 07871
UID:e.2125.1342627
SEQUENCE:3
DTSTAMP:20260424T011733Z
URL:https://members.scarnj.com/eventcalendar/Details/broker-leadership-council-1577279?sourceTypeId=Hub
END:VEVENT
END:VCALENDAR
