BEGIN:VCALENDAR
VERSION:2.0
PRODID:-//ChamberMaster//Event Calendar 2.0//EN
METHOD:PUBLISH
X-PUBLISHED-TTL:P1H
REFRESH-INTERVAL:P1H
CALSCALE:GREGORIAN
BEGIN:VTIMEZONE
TZID:America/New_York
BEGIN:DAYLIGHT
RRULE:FREQ=YEARLY;BYMONTH=3;BYDAY=2SU
DTSTART:20070101T000000
TZOFFSETFROM:-0500
TZOFFSETTO:-0400
TZNAME:Eastern Daylight Time
END:DAYLIGHT
BEGIN:STANDARD
RRULE:FREQ=YEARLY;BYMONTH=11;BYDAY=1SU
DTSTART:20070101T000000
TZOFFSETFROM:-0400
TZOFFSETTO:-0500
TZNAME:Eastern Standard Time
END:STANDARD
END:VTIMEZONE
BEGIN:VEVENT
DTSTART;TZID=America/New_York:20260417T110000
DTEND;TZID=America/New_York:20260417T120000
X-MICROSOFT-CDO-ALLDAYEVENT:FALSE
SUMMARY:Circle of Excellence Recap Meeting
DESCRIPTION:Recap meeting to review 2026 Circle of Excellence Event.VenueSponsorsFinancialsThings that worked wellThings that we can improveSet the sponsor deck and foundation for 2027
X-ALT-DESC;FMTTYPE=text/html:<!DOCTYPE html><html><head><title></title></head><body aria-disabled="false"><p>Recap meeting to review 2026 Circle of Excellence Event.</p><ul fr-original-style="" style="list-style-position: inside\;"><li>Venue</li><li>Sponsors</li><li>Financials</li><li>Things that worked well</li><li>Things that we can improve</li><li>Set the sponsor deck and foundation for 2027</li></ul></body></html>
LOCATION:351 Sparta Avenue Ste 101A Sparta NJ 07871
UID:e.2125.1437909
SEQUENCE:3
DTSTAMP:20260424T011731Z
URL:https://members.scarnj.com/eventcalendar/Details/circle-of-excellence-recap-meeting-1701923?sourceTypeId=Hub
END:VEVENT
END:VCALENDAR
