BEGIN:VCALENDAR
VERSION:2.0
PRODID:-//ChamberMaster//Event Calendar 2.0//EN
METHOD:PUBLISH
X-PUBLISHED-TTL:P1H
REFRESH-INTERVAL:P1H
CALSCALE:GREGORIAN
BEGIN:VTIMEZONE
TZID:America/New_York
BEGIN:DAYLIGHT
RRULE:FREQ=YEARLY;BYMONTH=3;BYDAY=2SU
DTSTART:20070101T000000
TZOFFSETFROM:-0500
TZOFFSETTO:-0400
TZNAME:Eastern Daylight Time
END:DAYLIGHT
BEGIN:STANDARD
RRULE:FREQ=YEARLY;BYMONTH=11;BYDAY=1SU
DTSTART:20070101T000000
TZOFFSETFROM:-0400
TZOFFSETTO:-0500
TZNAME:Eastern Standard Time
END:STANDARD
END:VTIMEZONE
BEGIN:VEVENT
DTSTART;TZID=America/New_York:20261015T110000
DTEND;TZID=America/New_York:20261015T130000
X-MICROSOFT-CDO-ALLDAYEVENT:FALSE
SUMMARY:Lunch and Learn: Out Of The Box Marketing for Real Estate Professionals
DESCRIPTION:Imagine a world where real estate isn't just about listings and open houses it's about creating unforgettable experiences. In our whirlwind two-hour journey\, we explore the uncharted territories of real estate marketing\, daring to think beyond the conventional and embrace the extraordinary.Hosted by Chris Carbone of Renew RestorationThis is a FREE event for SCAR members\, however\, "no-shows" will incur a $10 FEE if you cancel less than 48 hours before the event. Please respect that our hosts are providing lunch and including you in that headcount.
X-ALT-DESC;FMTTYPE=text/html:<!DOCTYPE html><html><head><title></title></head><body aria-disabled="false"><p>Imagine a world where real estate isn&#39\;t just about listings and open houses&mdash\;it&#39\;s about creating unforgettable experiences. In our whirlwind two-hour journey\, we explore the uncharted territories of real estate marketing\, daring to think beyond the conventional and embrace the extraordinary.</p><p>Hosted by Chris Carbone of Renew Restoration</p><p>This is a FREE event for SCAR members\, however\, &quot\;no-shows&quot\; will incur a $10 FEE if you cancel less than 48 hours before the event. Please respect that our hosts are providing lunch and including you in that headcount.</p></body></html>
LOCATION:351 Sparta Avenue Ste 101A Sparta NJ 07871
UID:e.2125.1445614
SEQUENCE:3
DTSTAMP:20260424T011747Z
URL:https://members.scarnj.com/eventcalendar/Details/lunch-and-learn-out-of-the-box-marketing-for-real-estate-professionals-1712229?sourceTypeId=Hub
END:VEVENT
END:VCALENDAR
