BEGIN:VCALENDAR
VERSION:2.0
PRODID:-//ChamberMaster//Event Calendar 2.0//EN
METHOD:PUBLISH
X-PUBLISHED-TTL:P1H
REFRESH-INTERVAL:P1H
CALSCALE:GREGORIAN
BEGIN:VTIMEZONE
TZID:America/New_York
BEGIN:DAYLIGHT
RRULE:FREQ=YEARLY;BYMONTH=3;BYDAY=2SU
DTSTART:20070101T000000
TZOFFSETFROM:-0500
TZOFFSETTO:-0400
TZNAME:Eastern Daylight Time
END:DAYLIGHT
BEGIN:STANDARD
RRULE:FREQ=YEARLY;BYMONTH=11;BYDAY=1SU
DTSTART:20070101T000000
TZOFFSETFROM:-0400
TZOFFSETTO:-0500
TZNAME:Eastern Standard Time
END:STANDARD
END:VTIMEZONE
BEGIN:VEVENT
DTSTART;TZID=America/New_York:20260820T110000
DTEND;TZID=America/New_York:20260820T130000
X-MICROSOFT-CDO-ALLDAYEVENT:FALSE
SUMMARY:Lunch and Learn: The Ins and Out of the Appraisal Process
DESCRIPTION:Would you like to know what a house appraisal will come in at? Long-time appraiser\, Mike Ganguzza will be presenting a lunch and learn where he will talk about the appraisal process\, the importance of Square Footage\, FHA/Freddie Mac/Fannie Mae Guideline\, ANZI guidelines\, and the REALTOR® Appraiser relationship.\n\nLunch and Q&A to follow here at the SCAR office.
X-ALT-DESC;FMTTYPE=text/html:Would you like to know what a house appraisal will come in at? Long-time appraiser\, Mike Ganguzza will be presenting a lunch and learn where he will talk about the appraisal process\, the importance of Square Footage\, FHA/Freddie Mac/Fannie Mae Guideline\, ANZI guidelines\, and the REALTOR® Appraiser relationship.\n\nLunch and Q&A to follow here at the SCAR office.
LOCATION:351 Sparta Avenue Ste 101A Sparta NJ 07871
UID:e.2125.1438122
SEQUENCE:3
DTSTAMP:20260424T011747Z
URL:https://members.scarnj.com/eventcalendar/Details/lunch-and-learn-the-ins-and-out-of-the-appraisal-process-1702135?sourceTypeId=Hub
END:VEVENT
END:VCALENDAR
