BEGIN:VCALENDAR
VERSION:2.0
PRODID:-//ChamberMaster//Event Calendar 2.0//EN
METHOD:PUBLISH
X-PUBLISHED-TTL:P1H
REFRESH-INTERVAL:P1H
CALSCALE:GREGORIAN
BEGIN:VTIMEZONE
TZID:America/New_York
BEGIN:DAYLIGHT
RRULE:FREQ=YEARLY;BYMONTH=3;BYDAY=2SU
DTSTART:20070101T000000
TZOFFSETFROM:-0500
TZOFFSETTO:-0400
TZNAME:Eastern Daylight Time
END:DAYLIGHT
BEGIN:STANDARD
RRULE:FREQ=YEARLY;BYMONTH=11;BYDAY=1SU
DTSTART:20070101T000000
TZOFFSETFROM:-0400
TZOFFSETTO:-0500
TZNAME:Eastern Standard Time
END:STANDARD
END:VTIMEZONE
BEGIN:VEVENT
DTSTART;TZID=America/New_York:20230710T090000
DTEND;TZID=America/New_York:20230721T163000
X-MICROSOFT-CDO-ALLDAYEVENT:FALSE
SUMMARY:75 Hour Pre-Licensing Course - Presented by Krumpfer Real Estate School
DESCRIPTION:** Canceled ** 75-Hour Pre-Licensing Course (9:00am - 4:30pm) Monday - Friday from 9:00 to 4:30 at the Krumpfer Real Estate School in Montague.
X-ALT-DESC;FMTTYPE=text/html:<!DOCTYPE html><html><head><title></title></head><body aria-disabled="false"><p>** Canceled ** 75-Hour Pre-Licensing Course (9:00am - 4:30pm) Monday - Friday from 9:00 to 4:30 at the Krumpfer Real Estate School in Montague.</p></body></html>
LOCATION:342 Lake Shore South Montague NJ 07827
UID:e.2125.834346
SEQUENCE:3
DTSTAMP:20260420T155307Z
URL:https://members.scarnj.com/eventcalendar/Details/75-hour-pre-licensing-course-presented-by-krumpfer-real-estate-school-925462?sourceTypeId=Hub
END:VEVENT
END:VCALENDAR
