BEGIN:VCALENDAR
VERSION:2.0
PRODID:-//ChamberMaster//Event Calendar 2.0//EN
METHOD:PUBLISH
X-PUBLISHED-TTL:P1H
REFRESH-INTERVAL:P1H
CALSCALE:GREGORIAN
BEGIN:VTIMEZONE
TZID:America/New_York
BEGIN:DAYLIGHT
RRULE:FREQ=YEARLY;BYMONTH=3;BYDAY=2SU
DTSTART:20070101T000000
TZOFFSETFROM:-0500
TZOFFSETTO:-0400
TZNAME:Eastern Daylight Time
END:DAYLIGHT
BEGIN:STANDARD
RRULE:FREQ=YEARLY;BYMONTH=11;BYDAY=1SU
DTSTART:20070101T000000
TZOFFSETFROM:-0400
TZOFFSETTO:-0500
TZNAME:Eastern Standard Time
END:STANDARD
END:VTIMEZONE
BEGIN:VEVENT
DTSTART;TZID=America/New_York:20260528T110000
DTEND;TZID=America/New_York:20260528T130000
X-MICROSOFT-CDO-ALLDAYEVENT:FALSE
SUMMARY:Lunch and Learn: Mastering The Showing
DESCRIPTION:"Great REALTORS  don't react to inspections\, they prepare for them." At this months class you will learn how to identify potential red flags early\, control the narrative\, educate without alarm\, set inspection expectations early and document mentally for laterPresented by Rick Sanderson from Precision Property Inspection.
X-ALT-DESC;FMTTYPE=text/html:<!DOCTYPE html><html><head><title></title></head><body aria-disabled="false"><p><span style="color: rgb(0\, 0\, 0)\; font-family: Arial\; font-size: medium\; font-style: normal\; font-variant-ligatures: normal\; font-variant-caps: normal\; font-weight: 400\; letter-spacing: normal\; orphans: 2\; text-align: start\; text-indent: 0px\; text-transform: none\; widows: 2\; word-spacing: 0px\; -webkit-text-stroke-width: 0px\; white-space: normal\; text-decoration-thickness: initial\; text-decoration-style: initial\; text-decoration-color: initial\; display: inline !important\; float: none\;">&ldquo\;Great REALTORS&reg\; don&rsquo\;t react to inspections\, they prepare for them.&rdquo\;</span>&nbsp\;</p><p>At this months class you will learn how to identify potential red flags early\, control the narrative\, educate without alarm\, set inspection expectations early and document mentally for later</p><p>Presented by Rick Sanderson from Precision Property Inspection.</p></body></html>
LOCATION:351 Sparta Avenue Ste 101A Sparta NJ 07871
UID:e.2125.1445418
SEQUENCE:3
DTSTAMP:20260424T022344Z
URL:https://members.scarnj.com/eventcalendar/Details/lunch-and-learn-mastering-the-showing-1712014?sourceTypeId=Hub
END:VEVENT
END:VCALENDAR
