BEGIN:VCALENDAR
VERSION:2.0
PRODID:-//ChamberMaster//Event Calendar 2.0//EN
METHOD:PUBLISH
X-PUBLISHED-TTL:P1H
REFRESH-INTERVAL:P1H
CALSCALE:GREGORIAN
BEGIN:VTIMEZONE
TZID:America/New_York
BEGIN:DAYLIGHT
RRULE:FREQ=YEARLY;BYMONTH=3;BYDAY=2SU
DTSTART:20070101T000000
TZOFFSETFROM:-0500
TZOFFSETTO:-0400
TZNAME:Eastern Daylight Time
END:DAYLIGHT
BEGIN:STANDARD
RRULE:FREQ=YEARLY;BYMONTH=11;BYDAY=1SU
DTSTART:20070101T000000
TZOFFSETFROM:-0400
TZOFFSETTO:-0500
TZNAME:Eastern Standard Time
END:STANDARD
END:VTIMEZONE
BEGIN:VEVENT
DTSTART;TZID=America/New_York:20260514T120000
DTEND;TZID=America/New_York:20260514T160000
X-MICROSOFT-CDO-ALLDAYEVENT:FALSE
SUMMARY:REALTOR® Broker Summit
DESCRIPTION:Join us for an energizing afternoon designed exclusively for forward-thinking brokers ready to lead in a rapidly evolving real estate landscape. The 2026 REALTOR  Broker Summit brings together top industry voices\, innovative tools\, and critical policy insights to help you sharpen your competitive edge and drive your business forward.\n\nBrought to you by New Jersey REALTORS \, Greater Bergen REALTORS \, Liberty Board of REALTORS \, North Central Jersey Association of REALTORS \, and Sussex County Association of REALTORS .Speakers:Sherry Chris | NAR Special Advisor\, BrokeragesNykea Pippion McGriff | NAR Vice President\, Broker EngagementRay Gronowski | NAR Vice President\, Broker & Specialty ServicesBryan Greene | NAR Vice President\, Policy AdvocacyDouglas Tomson | NJR CEOYuliya Tedeschi\, Esq | NJR General CounselContinuing Education Credit:New Jersey Real Estate: 1 Core Credit (C20203483)
X-ALT-DESC;FMTTYPE=text/html:<!DOCTYPE html><html><head><title></title></head><body aria-disabled="false"><p>Join us for an energizing afternoon designed exclusively for forward-thinking brokers ready to lead in a rapidly evolving real estate landscape. The 2026 REALTOR&reg\; Broker Summit brings together top industry voices\, innovative tools\, and critical policy insights to help you sharpen your competitive edge and drive your business forward.<br><br>Brought to you by New Jersey REALTORS&reg\;\, Greater Bergen REALTORS&reg\;\, Liberty Board of REALTORS&reg\;\, North Central Jersey Association of REALTORS&reg\;\, and Sussex County Association of REALTORS&reg\;.</p><p><span style='font-weight: bold\; color: rgb(34\, 34\, 34)\; font-family: Roboto\, HelveticaNeue\, "Helvetica Neue"\, Helvetica\, Arial\, sans-serif\; font-size: 17px\; font-style: normal\; font-variant-ligatures: normal\; font-variant-caps: normal\; letter-spacing: normal\; orphans: 2\; text-align: start\; text-indent: 0px\; text-transform: none\; widows: 2\; word-spacing: 0px\; -webkit-text-stroke-width: 0px\; white-space: normal\; background-color: rgb(255\, 255\, 255)\; text-decoration-thickness: initial\; text-decoration-style: initial\; text-decoration-color: initial\;'>Speakers:</span></p><ul fr-original-style='margin: 0px\; padding: 0px\; list-style-type: none\; color: rgb(34\, 34\, 34)\; font-family: Roboto\, HelveticaNeue\, "Helvetica Neue"\, Helvetica\, Arial\, sans-serif\; font-size: 17px\; font-style: normal\; font-variant-ligatures: normal\; font-variant-caps: normal\; font-weight: 400\; letter-spacing: normal\; orphans: 2\; text-align: start\; text-indent: 0px\; text-transform: none\; widows: 2\; word-spacing: 0px\; -webkit-text-stroke-width: 0px\; white-space: normal\; background-color: rgb(255\, 255\, 255)\; text-decoration-thickness: initial\; text-decoration-style: initial\; text-decoration-color: initial\;' style='margin: 0px\; padding: 0px\; list-style-type: none\; color: rgb(34\, 34\, 34)\; font-family: Roboto\, HelveticaNeue\, "Helvetica Neue"\, Helvetica\, Arial\, sans-serif\; font-size: 17px\; font-style: normal\; font-variant-ligatures: normal\; font-variant-caps: normal\; font-weight: 400\; letter-spacing: normal\; orphans: 2\; text-align: start\; text-indent: 0px\; text-transform: none\; widows: 2\; word-spacing: 0px\; -webkit-text-stroke-width: 0px\; white-space: normal\; background-color: rgb(255\, 255\, 255)\; text-decoration-thickness: initial\; text-decoration-style: initial\; text-decoration-color: initial\; list-style-position: inside\;'><li style="margin: 0px 0px 10px\; padding: 0px 0px 0px 10px\; border-left: 4px solid rgb(109\, 172\, 222)\; transition: border 1s\, box-shadow 1s\;">Sherry Chris | NAR Special Advisor\, Brokerages</li><li style="margin: 0px 0px 10px\; padding: 0px 0px 0px 10px\; border-left: 4px solid rgb(109\, 172\, 222)\; transition: border 1s\, box-shadow 1s\;">Nykea Pippion McGriff | NAR Vice President\, Broker Engagement</li><li style="margin: 0px 0px 10px\; padding: 0px 0px 0px 10px\; border-left: 4px solid rgb(109\, 172\, 222)\; transition: border 1s\, box-shadow 1s\;">Ray Gronowski | NAR Vice President\, Broker &amp\; Specialty Services</li><li style="margin: 0px 0px 10px\; padding: 0px 0px 0px 10px\; border-left: 4px solid rgb(109\, 172\, 222)\; transition: border 1s\, box-shadow 1s\;">Bryan Greene | NAR Vice President\, Policy Advocacy</li><li style="margin: 0px 0px 10px\; padding: 0px 0px 0px 10px\; border-left: 4px solid rgb(109\, 172\, 222)\; transition: border 1s\, box-shadow 1s\;">Douglas Tomson | NJR CEO</li><li style="margin: 0px 0px 10px\; padding: 0px 0px 0px 10px\; border-left: 4px solid rgb(109\, 172\, 222)\; transition: border 1s\, box-shadow 1s\;">Yuliya Tedeschi\, Esq | NJR General Counsel</li></ul><p><span style='font-weight: bold\; color: rgb(34\, 34\, 34)\; font-family: Roboto\, HelveticaNeue\, "Helvetica Neue"\, Helvetica\, Arial\, sans-serif\; font-size: 17px\; font-style: normal\; font-variant-ligatures: normal\; font-variant-caps: normal\; letter-spacing: normal\; orphans: 2\; text-align: start\; text-indent: 0px\; text-transform: none\; widows: 2\; word-spacing: 0px\; -webkit-text-stroke-width: 0px\; white-space: normal\; background-color: rgb(255\, 255\, 255)\; text-decoration-thickness: initial\; text-decoration-style: initial\; text-decoration-color: initial\;'>Continuing Education Credit:</span></p><ul fr-original-style='margin: 0px\; padding: 0px\; list-style-type: none\; color: rgb(34\, 34\, 34)\; font-family: Roboto\, HelveticaNeue\, "Helvetica Neue"\, Helvetica\, Arial\, sans-serif\; font-size: 17px\; font-style: normal\; font-variant-ligatures: normal\; font-variant-caps: normal\; font-weight: 400\; letter-spacing: normal\; orphans: 2\; text-align: start\; text-indent: 0px\; text-transform: none\; widows: 2\; word-spacing: 0px\; -webkit-text-stroke-width: 0px\; white-space: normal\; background-color: rgb(255\, 255\, 255)\; text-decoration-thickness: initial\; text-decoration-style: initial\; text-decoration-color: initial\;' style='margin: 0px\; padding: 0px\; list-style-type: none\; color: rgb(34\, 34\, 34)\; font-family: Roboto\, HelveticaNeue\, "Helvetica Neue"\, Helvetica\, Arial\, sans-serif\; font-size: 17px\; font-style: normal\; font-variant-ligatures: normal\; font-variant-caps: normal\; font-weight: 400\; letter-spacing: normal\; orphans: 2\; text-align: start\; text-indent: 0px\; text-transform: none\; widows: 2\; word-spacing: 0px\; -webkit-text-stroke-width: 0px\; white-space: normal\; background-color: rgb(255\, 255\, 255)\; text-decoration-thickness: initial\; text-decoration-style: initial\; text-decoration-color: initial\; list-style-position: inside\;'><li style="margin: 0px 0px 10px\; padding: 0px 0px 0px 10px\; border-left: 4px solid rgb(109\, 172\, 222)\; transition: border 1s\, box-shadow 1s\;">New Jersey Real Estate: 1 Core Credit (C20203483)</li></ul></body></html>
LOCATION:300 Pompton Road Wayne 07470
UID:e.2125.1437725
SEQUENCE:3
DTSTAMP:20260425T112901Z
URL:https://members.scarnj.com/eventcalendar/Details/realtor-broker-summit-1701670?sourceTypeId=Hub
END:VEVENT
END:VCALENDAR
